BEGIN:VCALENDAR
VERSION:2.0
BEGIN:VEVENT
URL:https://www.isurfedthere.com/js-all-events/viewevent/89-pacific-beach-surf-club-19th-annual-summer-longboard-classic?groupid=4 
DTSTART:20170610T070000
DTEND:20170610T160000
SUMMARY:Pacific Beach Surf Club 19th Annual Summer Longboard Classic
DESCRIPTION:<p>First begun by Bobby "Challenger" Thomas in the 1990's, the Summer Longboard Classic is the best way for local surfers to show off their moves, both in and out of the water! The Bus Brothers DJs will keep the vibe going all day long, and heats for men and women of all age groups begin at 7am.<br /></p><p>For more information, go to the PB Surf Club's website <a href="http://www.pacificbeachsurfclub.com/summer-longboard-classic" title="Pacific Beach Surf Club Summer Longboard Classic" target="new">here</a>.</p><br />
LOCATION:600 Tourmaline St, San Diego, CA 92109
END:VEVENT
END:VCALENDAR