BEGIN:VCALENDAR
VERSION:2.0
BEGIN:VEVENT
URL:https://www.isurfedthere.com/js-all-events/viewevent/90-pacific-beach-surf-club-2018-summer-longboard-classic 
DTSTART:20180609T070000
DTEND:20180609T150000
SUMMARY:Pacific Beach Surf Club 2018 Summer Longboard Classic
DESCRIPTION:<p>Each June the Pacific Beach Surf Club holds its annual longboard contest to kick off the summer. This year's even will be held on June 9th at Tourmaline Surfing Park and as always will feature some of the area's finest longboard talent in a relaxed, fun atmosphere. The Bus Brothers DJs will be spinning classic vinyl and there are divisions for all age groups.</p><p>ENTRY FEES:</p><p>Menehune Girls and Boys (14 years old and younger) - $40</p><p>Everyone 15 years old and up - $65</p><p>ATTENTION: As of this date (May 4th), we are actively pursuing sponsorship for this event. If you have something to submit, please contact us here or come to the next meeting! We hold them every month on the first Thursday of the month.</p><p>Check back often for more information as the plans for this event unfold.</p><p>Mahalo and Aloha!</p><p>PBSC</p>
LOCATION:600 Tourmaline Street, San Diego, California
END:VEVENT
END:VCALENDAR